BEGIN:VCALENDAR
VERSION:2.0
PRODID:ics.py 0.8.0-dev0 - http://git.io/lLljaA
BEGIN:VEVENT
DTSTART:20220817T153000Z
DTEND:20220817T160000Z
SUMMARY:Bi-Weekly Xarray Community Developers Meeting
UID:ac7ec141-4254-4e9c-9e85-85635fb07e2f@ac7e.org
DESCRIPTION:The bi-weekly call for the xarray community.\nAgenda: 
 https://hackmd.io/Vv6g2ABzTPKbe2MWBQqS1w
URL:https://github.com/pydata/xarray/issues/4001
DTSTAMP:20260406T220550Z
RRULE:FREQ=DAILY;INTERVAL=14;UNTIL=20250101T000000
END:VEVENT
NAME:Xarray Community Calendar
X-WR-CALNAME:Xarray Community Calendar
END:VCALENDAR
