BEGIN:VCALENDAR
VERSION:2.0
PRODID:ics.py 0.8.0-dev0 - http://git.io/lLljaA
BEGIN:VTIMEZONE
TZID:UTC-04:00
BEGIN:STANDARD
TZOFFSETFROM:+0000
TZOFFSETTO:-0400
DTSTART:19700101T000000
RRULE:FREQ=YEARLY;COUNT=1
TZNAME:UTC-04:00
END:STANDARD
END:VTIMEZONE
BEGIN:VEVENT
DTSTART;TZID="UTC-04:00":20250529T130000
DURATION:PT1H
SUMMARY:NetworkX Community Call
UID:e04c0eef-132a-4ae4-a29f-8654edd222e5@e04c.org
DESCRIPTION:The NetworkX Community Call.\n\nMeeting link: 
 https://colgate.zoom.us/j/92619161786\nMeeting notes: 
 https://hackmd.io/ea2IhUuqSrG4kM9tokXuEw
URL:https://colgate.zoom.us/j/92619161786
DTSTAMP:20260406T220549Z
RRULE:FREQ=DAILY;INTERVAL=7;UNTIL=20261231T000000
END:VEVENT
BEGIN:VEVENT
DTSTART;TZID="UTC-04:00":20250225T113000
DURATION:PT1H
SUMMARY:NetworkX Dispatching Call
UID:26c25c76-0f8e-440c-8261-238d6fcfaaa1@26c2.org
DESCRIPTION:Discuss NetworkX dispatching development and backends such as 
 GraphBLAS\, cugraph\, and nx-parallel.\n\nMeeting link: 
 https://colgate.zoom.us/j/92619161786\nMeeting notes: 
 https://hackmd.io/rqs_pWMxSLmICXCpI3w-Ug\nZoom meeting ID: 941 9287 
 4965\nZoom meeting passcode: 572126
URL:https://anaconda.zoom.us/j/94192874965?pwd=K0wvcmhXem41ZlVSQ2l4TXlUaDgx
 dz09
DTSTAMP:20260406T220549Z
RRULE:FREQ=MONTHLY;BYDAY=1TU;INTERVAL=1
END:VEVENT
BEGIN:VEVENT
DTSTART:20250515T130000Z
DURATION:PT1H
SUMMARY:NetworkX's nx-parallel backend call
UID:ce936004-78eb-46cd-a22b-b164d5f31a65@ce93.org
DESCRIPTION:Discussing the future of the nx-parallel backend 
 (https://github.com/networkx/nx-parallel).\n\nMeeting link: 
 https://colgate.zoom.us/j/281534728\nMeeting notes: 
 https://hackmd.io/tF0saJhyQ2i25e8tWiBrmw
URL:https://colgate.zoom.us/j/281534728
DTSTAMP:20260406T220549Z
RRULE:FREQ=DAILY;INTERVAL=7;UNTIL=20261231T000000
END:VEVENT
NAME:NetworkX Community Calendar
X-WR-CALNAME:NetworkX Community Calendar
END:VCALENDAR
